BEGIN:VCALENDAR
VERSION:2.0
METHOD:PUBLISH
PRODID:-//Virginia Tech//VT Calendar//EN
BEGIN:VEVENT
DTSTAMP:20100310T050000Z
UID:1172005909117-0003@events.msu.edu
CATEGORIES:Break / Holidays
DTSTART;VALUE=DATE:20100310
DTEND;VALUE=DATE:20100311
SUMMARY:Spring Break
DESCRIPTION:
 Spring break is March 8-12. No classes are scheduled. 
 The university remains open.\n\n
 Sponsor: Registrar\n
 Sponsor's Homepage: http://www.reg.msu.edu/\n
END:VEVENT
END:VCALENDAR
