BEGIN:VCALENDAR
VERSION:2.0
METHOD:PUBLISH
PRODID:-//Virginia Tech//VT Calendar//EN
BEGIN:VEVENT
DTSTAMP:20100517T040000Z
UID:1172006836690@events.msu.edu
CATEGORIES:Academic
DTSTART;VALUE=DATE:20100517
DTEND;VALUE=DATE:20100518
SUMMARY:Summer Classes Begin
DESCRIPTION:
 Classes begin for full and first-half summer sessions.\n\n
 Sponsor: Registrar\n
 Sponsor's Homepage: http://www.reg.msu.edu/\n
END:VEVENT
END:VCALENDAR
