BEGIN:VCALENDAR
VERSION:2.0
METHOD:PUBLISH
PRODID:-//Virginia Tech//VT Calendar//EN
BEGIN:VEVENT
DTSTAMP:20101210T050000Z
UID:1172007921303@events.msu.edu
CATEGORIES:Academic
DTSTART;VALUE=DATE:20101210
DTEND;VALUE=DATE:20101211
SUMMARY:Fall Classes End
DESCRIPTION:
 Last day of classes for the 2010 fall semester.\n\n
 Sponsor: Registrar\n
 Sponsor's Homepage: http://www.reg.msu.edu/\n
 Contact phone: (517) 355-3300\n
END:VEVENT
END:VCALENDAR
