BEGIN:VCALENDAR
VERSION:2.0
METHOD:PUBLISH
PRODID:-//Virginia Tech//VT Calendar//EN
BEGIN:VEVENT
DTSTAMP:20101217T050000Z
UID:1172008056563-0005@events.msu.edu
CATEGORIES:Academic
DTSTART;VALUE=DATE:20101217
DTEND;VALUE=DATE:20101218
SUMMARY:Final Exams
DESCRIPTION:
 Final exams for fall semester are Dec. 13-17.\n\n
 Sponsor: Registrar\n
 Sponsor's Homepage: http://www.reg.msu.edu/\n
 Contact phone: (517) 355-3300\n
 for more info visit the web at:\n 
 http://www.reg.msu.edu/ROInfo/Calendar/FinalExam.asp\n
END:VEVENT
END:VCALENDAR
