BEGIN:VCALENDAR
VERSION:2.0
METHOD:PUBLISH
PRODID:-//Virginia Tech//VT Calendar//EN
BEGIN:VEVENT
DTSTAMP:20101224T050000Z
UID:1172008942829-0001@events.msu.edu
CATEGORIES:Break / Holidays
DTSTART;VALUE=DATE:20101224
DTEND;VALUE=DATE:20101225
SUMMARY:Holiday University Closed
DESCRIPTION:
 The university is closed for the holiday, and 
 no classes are scheduled.\n\n
 Sponsor: Registrar\n
 Sponsor's Homepage: http://www.reg.msu.edu/\n
 Contact phone: (517) 355-1855\n
END:VEVENT
END:VCALENDAR
