BEGIN:VCALENDAR
VERSION:2.0
METHOD:PUBLISH
PRODID:-//Virginia Tech//VT Calendar//EN
BEGIN:VEVENT
DTSTAMP:20100316T201500Z
UID:1249669755867@events.msu.edu
CATEGORIES:Academic
DTSTART:20100316T201500Z
DTEND:20100316T220000Z
SUMMARY:Faculty Council 
DESCRIPTION:
  Price: Free \n
 Sponsor: Administration\n
 Sponsor's Homepage: http://events.msu.edu/acadgov/\n
 Contact name: Sherry Johnson\n
 Contact phone: (517) 355-2337\n
 Contact email: slj@msu.edu\n
LOCATION:Radiology Building, Auditorium
END:VEVENT
END:VCALENDAR
