BEGIN:VCALENDAR
VERSION:2.0
METHOD:PUBLISH
PRODID:-//Virginia Tech//VT Calendar//EN
BEGIN:VEVENT
DTSTAMP:20100425T000000Z
UID:1250526726586@events.msu.edu
CATEGORIES:Performing Arts (Dance, Music, Theatre,  ...)
DTSTART:20100425T000000Z
DTEND:20100425T035900Z
SUMMARY:An Evening with John Corigliano
DESCRIPTION:
 <p>The final concert in the Showcase Series caps 
 off the weeklong MSU residency of John Corigliano, 
 one of the most well-respected and prolific 
 composers of our time, and winner of 
 the Pulitzer Prize, three Grammy Awards, and 
 an Oscar. The concert will feature MSU's Symphony 
 Orchestra, University Chorale, and Wind 
 Symphony.<br>\n
 \n
 <a href="http://people.music.msu.edu/detail.asp?ContactID=59&RecPos=63">Richard 
 Sherman </a>- <i>faculty artist</i></p>\n
 <p><table 
 border="0">\n
 <tr><td>Corigliano</td><td>- 
 Circus Maximus (Symphony No. 3)</td></tr>\n
 <tr><td></td><td>- 
 Pied Piper Fantasy 
 (Concerto for Flute and Orchestra)</td></tr>\n
 <tr><td></td><td>- 
 Fern Hill</td></tr>\n
 <tr><td></td><td>- 
 DC Fanfare</td></tr>\n
 <tr><td></td><td>- 
 The Red Violin Caprices</td></tr></table>\n
 </p>\n
 <p><a 
 href="https://www.whartoncenter.com/scripts/max/6000/maxweb.exe?ACTION=ORDER#johnc">Buy 
 Tickets</a></p>\n\n
 Price: $25, $20, $15, available from Wharton Center Box 
 Office only. (800) WHARTON.\n
 Sponsor: College of Music\n
 Sponsor's Homepage: http://www.music.msu.edu\n
 for more info visit the web at:\n 
 http://www.music.msu.edu/events/Coriglianoresidency.php\n
LOCATION:Cobb Great Hall, Wharton Center, Shaw Lane at Bogue Street, East Lansing, MI
END:VEVENT
END:VCALENDAR
