BEGIN:VCALENDAR
VERSION:2.0
METHOD:PUBLISH
PRODID:-//Virginia Tech//VT Calendar//EN
BEGIN:VEVENT
DTSTAMP:20100220T010000Z
UID:1250704828516@events.msu.edu
CATEGORIES:Performing Arts (Dance, Music, Theatre,  ...)
DTSTART:20100220T010000Z
DTEND:20100220T045900Z
SUMMARY:Musique 21
DESCRIPTION:
 <p><a href="http://people.music.msu.edu/detail.asp?ContactID=72&RecPos=45">Rod 
 Nelman</a> - 
 faculty artist</p>\n
 <p>Norman - Gran Turismo<br 
 />\n
 Puts - Einstein on Mercer Street</p>\n
 <p><a 
 href="http://people.music.msu.edu/detail.asp?ContactID=17&RecPos=32:>Ralph 
 Jimenez</a> 
 - music director/conductor</p>\n
 <p><a href="http://music.msu.edu/ensembles/musique.php?ensembles_musique">Musique 
 21</a> is a contemporary 
 music ensemble devoted to the performance 
 of works written by composers of the 20th 
 and 21st centuries. It provides audiences with 
 unique sounds and timbres that have been 
 developed throughout the contemporary era of 
 music.</p>\n\n
 Price: free\n
 Sponsor: College of Music\n
 Sponsor's Homepage: http://www.music.msu.edu\n
 Contact phone: (517) 432-2000\n
 Contact email: musicpr@msu.edu\n
LOCATION:Music Building Auditorium
END:VEVENT
END:VCALENDAR
