BEGIN:VCALENDAR
VERSION:2.0
METHOD:PUBLISH
PRODID:-//Virginia Tech//VT Calendar//EN
BEGIN:VEVENT
DTSTAMP:20100118T190000Z
UID:1250790433991@events.msu.edu
CATEGORIES:Performing Arts (Dance, Music, Theatre,  ...)
DTSTART:20100118T190000Z
DTEND:20100119T045900Z
SUMMARY:Diane Monroe, guest
DESCRIPTION:
 <p>Guest artist: Diane Monroe, violin <a href="http://dianemonroemusic.com/">[more 
 info]</a></p>\n
 <p>Musical 
 Expressions from 1929-1968: 
 Classical and jazz written during the lifetime 
 of Dr. Martin Luther King Jr.</p>\n\n
 Price: free\n
 Sponsor: College of Music\n
 Sponsor's Homepage: http://www.music.msu.edu\n
 Contact phone: (517) 432-2000\n
 Contact email: musicpr@msu.edu\n
LOCATION:Music Building Auditorium
END:VEVENT
END:VCALENDAR
