BEGIN:VCALENDAR
VERSION:2.0
METHOD:PUBLISH
PRODID:-//Virginia Tech//VT Calendar//EN
BEGIN:VEVENT
DTSTAMP:20100411T173000Z
UID:1251500335832@events.msu.edu
CATEGORIES:Performing Arts (Dance, Music, Theatre,  ...)
DTSTART:20100411T173000Z
DTEND:20100412T035900Z
SUMMARY:Music at the Museum: Percussion ensemble
DESCRIPTION:
 <p><a href='http://maps.google.com/maps?f=q&source=s_q&hl=en&geocode=&q=Michigan+Historical+Museum,+702+W.+Kalamazoo+St.,+Lansing&sll=42.960443,-84.196472&sspn=0.799985,1.74408&ie=UTF8&hq=Michigan+Historical+Museum,&hnear=702+W+Kalamazoo+St,+Lansing,+MI+48915&ll=42.733633,-84.562755&spn=0.006273,0.013626&z=16&iwloc=A'>[map]</a></p>\n\n
 Price: free\n
 Sponsor: College of Music\n
 Sponsor's Homepage: http://www.music.msu.edu\n
LOCATION:Michigan Historical Museum, 702 W. Kalamazoo St., Lansing.
END:VEVENT
END:VCALENDAR
