BEGIN:VCALENDAR
VERSION:2.0
METHOD:PUBLISH
PRODID:-//Virginia Tech//VT Calendar//EN
BEGIN:VEVENT
DTSTAMP:20130316T000000Z
UID:1252947591617@events.msu.edu
CATEGORIES:Special Events
DTSTART:20130316T000000Z
DTEND:20130316T023000Z
SUMMARY:MSU Museum Wine Tasting Benefit
DESCRIPTION:
 Come sample and savor an array of fine wines as 
 the Greater Lansing Vintners Club and the Michigan 
 State University Museum present the annual 
 MSU Museum Wine Tasting Benefit.  Live 
 music, hearty appetizers, silent auction and 
 more. The event will feature more than 100 varieties 
 of wines from Michigan vintners, as well 
 as national and international selections. 
 An informal, walk-around set-up lets guests 
 casually sample different wines, and vendor representatives 
 will be on hand to answer questions. 
 The evening also features hors d'oeuvres, 
 a silent auction and door prizes. The event 
 benefits MSU Museum programs. \n\n
 Price: $45\n
 Sponsor: MSU Museum\n
 Sponsor's Homepage: http://testevents.msu.edu/msumuseum/\n
 Contact name: Mike Secord, event coordinator\n
 Contact phone: 517-432-4655\n
 Contact email: secordm@msu.edu\n
 for more info visit the web at:\n 
 http://museum.msu.edu/\n
LOCATION:Kellogg Hotel & Conference Center
END:VEVENT
END:VCALENDAR
