BEGIN:VCALENDAR
VERSION:2.0
METHOD:PUBLISH
PRODID:-//Virginia Tech//VT Calendar//EN
BEGIN:VEVENT
DTSTAMP:20100222T050000Z
UID:1253124756985@events.msu.edu
CATEGORIES:Public Programs
DTSTART;VALUE=DATE:20100222
DTEND;VALUE=DATE:20100223
SUMMARY:Open Studio Tours
DESCRIPTION:
  Price: Free \n
 Sponsor: Administration\n
 Sponsor's Homepage: http://www.art.msu.edu\n
 Contact name: Michelle Word\n
 Contact phone: (517) 432-3961\n
 Contact email: wordmich@msu.edu\n
 for more info visit the web at:\n 
 http://www.art.msu.edu\n
LOCATION:Kresge Art Center
END:VEVENT
END:VCALENDAR
