BEGIN:VCALENDAR
VERSION:2.0
METHOD:PUBLISH
PRODID:-//Virginia Tech//VT Calendar//EN
BEGIN:VEVENT
DTSTAMP:20100128T003000Z
UID:1259856237788@events.msu.edu
CATEGORIES:Performing Arts (Dance, Music, Theatre,  ...)
DTSTART:20100128T003000Z
DTEND:20100128T031500Z
SUMMARY:101 Dalmatians The Musical
DESCRIPTION:
 101 DALMATIANS THE MUSICAL is an experience for 
 the entire family about what it means to be 
 a family, canine, and courageous. More than 
 a smple sotry about good versus bad, the family 
 bands together to overcome every hurdle and 
 hardship in the most diffulicult times. \n
 \n
 Let 
 by the creative team of Jerry Zaks (La Cage 
 Aux Folles, Smokey Joe's Cafe, Everybody 
 Loves Raymond), B.T. McNicholl (Spamalot, Billy 
 Elliott, Cabaret and Dennis DeYoung (founding 
 members of the rock group Styx, the Hunchback 
 of Notre Dame), 101  DALMATIANS THE MUSICAL 
 will transport audiences to a slightly topsy-turvy, 
 exciting, and altogether fantastic 
 reality that give grand license for song, dance 
 an spectacle in a one-of-a-kind show that 
 will leave everyone cheering. \n
 \n
 Day	Time\n
 Tuesday, January 26	7:30 PM\n
 Wednesday, January 
 27	7:30 PM\n
 Thursday, January 28	7:30 PM\n
 Friday, January 29	8:00 PM\n
 Saturday, January 
 30	2:00 PM\n
 Saturday, January 30	8:00 PM\n
 Sunday, 
 January 31	1:00 PM\n
 Sunday, January 31	6:30 
 PM\n
 \n
 \n\n
 Price: $22.50 - $58.50\n
 Sponsor: Administration\n
 Sponsor's Homepage: http://whartoncenter.com\n
 Contact name: Bob Hoffman\n
 Contact phone: (517) - 432-2000\n
 Contact email: hoffma95@msu.edu\n
 for more info visit the web at:\n 
 http://www.whartoncenter.com\n
LOCATION:Wharton Center: Cobb Great Hall
END:VEVENT
END:VCALENDAR
