BEGIN:VCALENDAR
VERSION:2.0
METHOD:PUBLISH
PRODID:-//Virginia Tech//VT Calendar//EN
BEGIN:VEVENT
DTSTAMP:20100417T000000Z
UID:1260375226462-0001@events.msu.edu
CATEGORIES:Performing Arts (Dance, Music, Theatre,  ...)
DTSTART:20100417T000000Z
DTEND:20100417T035900Z
SUMMARY:Rent
DESCRIPTION:
 Rent, the Pulitzer Prize-winning musical by Jonathan 
 Larson, examines diverse denizens of Lower 
 East Side Manhattan as they struggle to 
 make the rent, find love, and cope with HIV. 
 This iconic musical has become a modern day classic 
 with its compelling score and tragically 
 human characters.\n\n
 Price: Students: $15, Seniors: $18, General: $20\n
 Sponsor: Department of Theatre\n
 Sponsor's Homepage: http://theatre.msu.edu/\n
 Contact phone: 517-355-6690\n
 Contact email: theatre@msu.edu\n
 for more info visit the web at:\n 
 http://www.theatre.msu.edu/Productions/Shows/Sp2010-YCTIWY/\n
LOCATION:Arena Theatre
END:VEVENT
END:VCALENDAR
