BEGIN:VCALENDAR
VERSION:2.0
METHOD:PUBLISH
PRODID:-//Virginia Tech//VT Calendar//EN
BEGIN:VEVENT
DTSTAMP:20100327T010000Z
UID:1260375484988-0001@events.msu.edu
CATEGORIES:Performing Arts (Dance, Music, Theatre,  ...)
DTSTART:20100327T010000Z
DTEND:20100327T045900Z
SUMMARY:In the Blood
DESCRIPTION:
  Price: All seats $8\n
 Sponsor: Department of Theatre\n
 Sponsor's Homepage: http://theatre.msu.edu/\n
 Contact phone: 517-355-6690\n
 Contact email: theatre@msu.edu\n
 for more info visit the web at:\n 
 http://www.theatre.msu.edu/Productions/Shows/Sp2010-InTheBlood/\n
LOCATION:Arena Theatre
END:VEVENT
END:VCALENDAR
