BEGIN:VCALENDAR
VERSION:2.0
METHOD:PUBLISH
PRODID:-//Virginia Tech//VT Calendar//EN
BEGIN:VEVENT
DTSTAMP:20100125T211000Z
UID:1261491924327@events.msu.edu
CATEGORIES:Conferences / Seminars / Lectures
DTSTART:20100125T211000Z
DTEND:20100126T045900Z
SUMMARY:Plant Research Laboratory and Plant Biology (conferences/Seminars/Lectures
DESCRIPTION:
 Dr. Kentaro Tamura from Kyoto University, Japan 
 will present a seminar entitled, "Nuclear pore 
 complex in Arabidopsis".\n\n
 Price: free\n
 Sponsor: public\n
 Contact name: Janet Taylor\n
 Contact phone: 517/353-2270\n
 Contact email: taylorja@cns.msu.edu\n
LOCATION:101 Biochemistry
END:VEVENT
END:VCALENDAR
