BEGIN:VCALENDAR
VERSION:2.0
METHOD:PUBLISH
PRODID:-//Virginia Tech//VT Calendar//EN
BEGIN:VEVENT
DTSTAMP:20100202T210000Z
UID:1261509439004@events.msu.edu
CATEGORIES:Conferences / Seminars / Lectures
DTSTART:20100202T210000Z
DTEND:20100203T045900Z
SUMMARY:Microbiology & Molecular Genetics Seminar
DESCRIPTION:
 Speaker:  Veronica Hinman, Carnegie Mellon University. 
 Topic: Novelty and the evolution of 
 developmental gene networks.\n\n
 Price: Free\n
 Sponsor: Dept. of Microbiology & Molecular Genetics \n
 Sponsor's Homepage: http://mmg.msu.edu/\n
 Contact name: Chris Waters and Kefei yu\n
 for more info visit the web at:\n 
 http://mmg.msu.edu/seminars-schedules.html\n
LOCATION:1415 BPS
END:VEVENT
END:VCALENDAR
