BEGIN:VCALENDAR
VERSION:2.0
METHOD:PUBLISH
PRODID:-//Virginia Tech//VT Calendar//EN
BEGIN:VEVENT
DTSTAMP:20100216T210000Z
UID:1261509515601@events.msu.edu
CATEGORIES:Conferences / Seminars / Lectures
DTSTART:20100216T210000Z
DTEND:20100217T045900Z
SUMMARY:Microbiology & Molecular Genetics Seminar
DESCRIPTION:
 Integrating Mixture Models Analysis of Microarrays 
 with Functional Genomics by Bill Muir, Purdue 
 \n\n
 Price: Free\n
 Sponsor: Dept. of Microbiology & Molecular Genetics \n
 Sponsor's Homepage: http://mmg.msu.edu/\n
 Contact name: Chris Waters and Kefei yu\n
 for more info visit the web at:\n 
 http://mmg.msu.edu/seminars-schedules.html\n
LOCATION:1415 BPS
END:VEVENT
END:VCALENDAR
