BEGIN:VCALENDAR
VERSION:2.0
METHOD:PUBLISH
PRODID:-//Virginia Tech//VT Calendar//EN
BEGIN:VEVENT
DTSTAMP:20100203T170000Z
UID:1262179190273@events.msu.edu
CATEGORIES:Conferences / Seminars / Lectures
DTSTART:20100203T170000Z
DTEND:20100203T180000Z
SUMMARY:Bioethics and Stem Cell Research in Korea
DESCRIPTION:
 A Center for Ethics and Humanities Brown Bag presentation 
 by Kyung-Sun Kang, Director, Adult 
 Stem Cell Research Center, College of Veterinary 
 Medicine, Seoul National University.\n\n
 Price: Free\n
 Sponsor: Center for Ethics and Humanities in the Life Sciences\n
 Sponsor's Homepage: http://www.bioethics.msu.edu\n
 Contact name: Libby Bogdan-Lovis\n
 Contact phone: 517.432.5185\n
 Contact email: bogdanlo@msu.edu\n
 for more info visit the web at:\n 
 http://www.bioethics.msu.edu/images/stories/file/BrownBags/FS09-SS10/kang.pdf\n
LOCATION:C-102 East Fee Hall
END:VEVENT
END:VCALENDAR
