BEGIN:VCALENDAR
VERSION:2.0
METHOD:PUBLISH
PRODID:-//Virginia Tech//VT Calendar//EN
BEGIN:VEVENT
DTSTAMP:20100227T230000Z
UID:1263230365166@events.msu.edu
CATEGORIES:Performing Arts (Dance, Music, Theatre,  ...)
DTSTART:20100227T230000Z
DTEND:20100228T020000Z
SUMMARY:Indonesian Student Association
DESCRIPTION:
 Indonesian Cultural Night is organized to promote 
 awareness of the Indonesian culture through 
 exhibitions, performances, and traditional 
 cuisine. We invite the East Lansing community, 
 especially MSU's non-Indonesian students and 
 faculty. There will be games and prizes given 
 to encourage audience members to learn as 
 much as possible from this experience. \n\n
 Price: free\n
 Sponsor: Office for International Students and Scholars\n
 Sponsor's Homepage: http://oiss.msu.edu\n
 Contact name: Stella Jogisaputra\n
 Contact phone: 5179749202\n
 Contact email: jogisapu@msu.edu\n
LOCATION:Okemos High School
END:VEVENT
END:VCALENDAR
