BEGIN:VCALENDAR
VERSION:2.0
METHOD:PUBLISH
PRODID:-//Virginia Tech//VT Calendar//EN
BEGIN:VEVENT
DTSTAMP:20100217T200000Z
UID:1263236860407@events.msu.edu
CATEGORIES:Conferences / Seminars / Lectures
DTSTART:20100217T200000Z
DTEND:20100217T210000Z
SUMMARY:CEM 958 Organic Chemistry Seminar
DESCRIPTION:
 Amila Dissanayake, MSU, will present an organic 
 seminar.  Host - Professor Aaron Odom.  Title 
 - Cooperative Duel Catalysis:  Combining Transition 
 Metal\n
 Catalysis and Organocatalysis 
 in Organic Synthesis\n\n
 Price: free\n
 Sponsor: Chemistry\n
 Sponsor's Homepage: http://www.chemistry.msu.edu/\n
 Contact name: DeAnn Pierce\n
 Contact phone: 355-9715, X137\n
 Contact email: pierce@chemistry.msu.edu\n
LOCATION:136 Chemistry
END:VEVENT
END:VCALENDAR
