BEGIN:VCALENDAR
VERSION:2.0
METHOD:PUBLISH
PRODID:-//Virginia Tech//VT Calendar//EN
BEGIN:VEVENT
DTSTAMP:20100129T000000Z
UID:1263387965720@events.msu.edu
CATEGORIES:Movie / Film
DTSTART:20100129T000000Z
DTEND:20100129T020000Z
SUMMARY:Library Film Series - Trouble in Paradise
DESCRIPTION:
  Price: free\n
 Sponsor: public\n
 Contact name: Ruth Ann Jones\n
 Contact email: jonesr@msu.edu\n
 for more info visit the web at:\n 
 http://www2.lib.msu.edu/general/events/index.jsp\n
LOCATION:Michigan State University Libraries, N. Conference Room (W449)
END:VEVENT
END:VCALENDAR
