BEGIN:VCALENDAR
VERSION:2.0
METHOD:PUBLISH
PRODID:-//Virginia Tech//VT Calendar//EN
BEGIN:VEVENT
DTSTAMP:20100628T040000Z
UID:1265907004615-0002@events.msu.edu
CATEGORIES:Performing Arts (Dance, Music, Theatre,  ...)
DTSTART;VALUE=DATE:20100628
DTEND;VALUE=DATE:20100629
SUMMARY:MSU Jazz Camp
DESCRIPTION:
 This residential camp is for middle and high school 
 students from both Southeast Michigan (Detroit) 
 and Greater Lansing, with some playing 
 experience on their instruments. The program 
 focuses on jazz orchestra and small groups, 
 exposing participants to many arrangements 
 and composition styles used in jazz. Students 
 learn applied theory, sight-reading and improvisation. 
 Students stay in residence halls, 
 getting a first hand look at college life. Students 
 work with MSU College of Music world class 
 faculty and MSU Jazz Studies student mentors.\n\n
 Price: $465 (day campers), $565 (residential campers)\n
 Sponsor: Administration\n
 Sponsor's Homepage: http://cms.msu.edu\n
 Contact phone: (517) 355-7661\n
 for more info visit the web at:\n 
 http://http://cms.msu.edu/el/children/camps_jazz.php\n
LOCATION:Music Building
END:VEVENT
END:VCALENDAR
