BEGIN:VCALENDAR
VERSION:2.0
METHOD:PUBLISH
PRODID:-//Virginia Tech//VT Calendar//EN
BEGIN:VEVENT
DTSTAMP:20100714T170000Z
UID:1265907240381-0003@events.msu.edu
CATEGORIES:Performing Arts (Dance, Music, Theatre,  ...)
DTSTART:20100714T170000Z
DTEND:20100714T210000Z
SUMMARY:Rock Camp
DESCRIPTION:
 Rock Camp is a day camp for middle and high school 
 students who have some experience playing 
 their instruments of choice (guitar, bass, 
 drums, keys, or vocals). Students who play other 
 instruments or have limited experience should 
 consult with the Community Music School.\n\n
 Price: $130\n
 Sponsor: Administration\n
 Sponsor's Homepage: http://cms.msu.edu\n
 Contact phone: (517) 355-7661\n
 for more info visit the web at:\n 
 http://http://cms.msu.edu/el/children/camps_schoolRock.php\n
LOCATION:MSU Community Music School
END:VEVENT
END:VCALENDAR
