BEGIN:VCALENDAR
VERSION:2.0
METHOD:PUBLISH
PRODID:-//Virginia Tech//VT Calendar//EN
BEGIN:VEVENT
DTSTAMP:20100725T010000Z
UID:1265907729448-0006@events.msu.edu
CATEGORIES:Performing Arts (Dance, Music, Theatre,  ...)
DTSTART:20100725T010000Z
DTEND:20100724T190000Z
SUMMARY:Musical Theatre Camp
DESCRIPTION:
 Musical Theatre and Choir camp is a day camp for 
 elementary, middle, and high school students 
 with an interest in music for the theatre. 
 Grades 9-12 participate in an immersive two-week 
 program where they will develop skills including 
 solo and ensemble voice development, 
 choreography, prop and stage design, among many 
 others. Grades 2-8 will join the seocnd week 
 where they will begin to develop the above 
 skills with a focus on healthy singing using 
 choral and musical theatre repertoire. The 
 camp will culiminate in a final performance featuring 
 scenes and songs from many popular musicals. 
 \n\n
 Price: $320 (2 week campers), $170 (1 week campers)\n
 Sponsor: Administration\n
 Sponsor's Homepage: http://cms.msu.edu\n
 Contact phone: (517) 355-7661\n
 for more info visit the web at:\n 
 http://cms.msu.edu/el/children/camps_musicTheatre.php\n
LOCATION:MSU Community School
END:VEVENT
END:VCALENDAR
