BEGIN:VCALENDAR
VERSION:2.0
METHOD:PUBLISH
PRODID:-//Virginia Tech//VT Calendar//EN
BEGIN:VEVENT
DTSTAMP:20100222T211000Z
UID:1266327209798@events.msu.edu
CATEGORIES:Conferences / Seminars / Lectures
DTSTART:20100222T211000Z
DTEND:20100223T045900Z
SUMMARY:Plant Research Laboratory and Plant Biology
DESCRIPTION:
 Prof. Andrzej Wierzbicki from University of Michigan 
 gives a presentation entitled:  "Non-coding 
 RNA in transcriptional gene silencing"\n\n
 Price: free\n
 Sponsor: public\n
 Contact name: Janet Taylor\n
 Contact phone: 517/353-2270\n
 Contact email: taylorja@cns.msu.edu\n
LOCATION:101 Biochemistry
END:VEVENT
END:VCALENDAR
