BEGIN:VCALENDAR
VERSION:2.0
METHOD:PUBLISH
PRODID:-//Virginia Tech//VT Calendar//EN
BEGIN:VEVENT
DTSTAMP:20100312T150000Z
UID:1267030342976@events.msu.edu
CATEGORIES:Training
DTSTART:20100312T150000Z
DTEND:20100312T163000Z
SUMMARY:Lifelong Library Emeriti Program: How to Spy on Your Own House
DESCRIPTION:
 Lifelong Library Emeriti Program<br><br />\n
 How 
 to Spy on Your Own House: Finding Detailed 
 Information on Land and Buildings<br><br />\n
 \n
 Kathleen Weessies, Map Librarian, will show 
 you how to find detailed historical and current 
 information on an historic home or a particular 
 parcel of land. Discover strategies for 
 uncovering current tax assessments and sale 
 price, well records, flood zones, wetlands, 
 and large-scale maps of the 19th through 21st 
 centuries on both paper and the Internet. All 
 you need to begin your exploration is a description 
 of the property by postal address, legal 
 land description, and latitude/longitude.\n\n
 Price: free\n
 Sponsor: Administration\n
 Sponsor's Homepage: http://www.lib.msu.edu\n
 Contact name: Lisa Denison\n
 Contact phone: (517) 884-6449\n
 Contact email: denison2@msu.edu\n
 for more info visit the web at:\n 
 http://www2.lib.msu.edu/general/events/index.jsp\n
LOCATION:Main Library, Beaumont Instruction Room
END:VEVENT
END:VCALENDAR
