BEGIN:VCALENDAR
VERSION:2.0
METHOD:PUBLISH
PRODID:-//Virginia Tech//VT Calendar//EN
BEGIN:VEVENT
DTSTAMP:20100305T150000Z
UID:1267031891361@events.msu.edu
CATEGORIES:Training
DTSTART:20100305T150000Z
DTEND:20100305T163000Z
SUMMARY:Lifelong Library Emeriti Program: Web Information Skills and Searching Savvy
DESCRIPTION:
 Lifelong Library Emeriti Program<br />\n
 <br />\n
 Web 
 Information Skills and Searching Savvy: 
 The Basics<br />\n
 <br />\n
 The instruction team 
 of the MSU Libraries invites you to join us 
 for a hands-on seminar especially designed 
 for emeritus faculty to expand their Web information 
 skills and searching savvy. Learn more 
 about finding what you want and evaluating 
 what you find online--whether it's for academic 
 purposes or personal enrichment--while discovering 
 the many "value-added" resources and 
 services only available to you through the MSU 
 Libraries.\n
 \n\n
 Price: free\n
 Sponsor: Administration\n
 Sponsor's Homepage: http://www.lib.msu.edu\n
 Contact name: Lisa Denison\n
 Contact phone: (517) 884-6449\n
 Contact email: denison2@msu.edu\n
 for more info visit the web at:\n 
 http://www2.lib.msu.edu/general/events/index.jsp\n
LOCATION:Main Library, Beaumont Instruction Room
END:VEVENT
END:VCALENDAR
