BEGIN:VCALENDAR
VERSION:2.0
METHOD:PUBLISH
PRODID:-//Virginia Tech//VT Calendar//EN
BEGIN:VEVENT
DTSTAMP:20100314T010000Z
UID:1267631856457@events.msu.edu
CATEGORIES:Public Programs
DTSTART:20100314T010000Z
DTEND:20100314T023000Z
SUMMARY:Two Small Pieces of Glass
DESCRIPTION:
 This show discusses the history of the telescope, 
 from its creation by Hans Lipperhey, to the 
 technology that runs today's largest telescopes 
 and explores what we have learned and what 
 we hope to one day know.\n\n
 Price: Adults $3.00, students and senior citizens $2.50, 
 children 12 years and under $2.00\n
 Sponsor: Abrams Planetarium\n
 Sponsor's Homepage: http://www.pa.msu.edu/abrams\n
 Contact name: Mary Gowans\n
 Contact phone: 517-355-4676\n
 Contact email: gowans@msu.edu\n
 for more info visit the web at:\n 
 http://www.pa.msu.edu/abrams\n
LOCATION:Abrams Planetarium
END:VEVENT
END:VCALENDAR
