BEGIN:VCALENDAR
VERSION:2.0
METHOD:PUBLISH
PRODID:-//Virginia Tech//VT Calendar//EN
BEGIN:VEVENT
DTSTAMP:20100329T050000Z
UID:1268834033893-0013@events.msu.edu
CATEGORIES:Student Events
DTSTART;VALUE=DATE:20100329
DTEND;VALUE=DATE:20100330
SUMMARY:GET HIM TO THE GREEK BIG TEN CONTEST
DESCRIPTION:
 Whichever Big 10 university demands "Get Him to 
 the Greek" the most times gets CAST APPEARANCE.\n
 Go 
 to http://eventful.com/gethimtothegreek 
 and DEMAND for Michigan State University 
 to bring the cast of "Get Him to the Greek" to 
 MSU for the free screening.  \n
 \n
 Actual Screening 
 April 19th 7:30 PM, B108 Wells\n\n
 Price: FREE\n
 Sponsor: University Activities Board (UAB)\n
 Sponsor's Homepage: http://www.uabevents.com\n
 Contact name: University Activities Board\n
 Contact phone: 355-3354\n
 Contact email: uab@hfs.msu.edu\n
 for more info visit the web at:\n 
 http://www.uabevents.com\n
LOCATION:Online
END:VEVENT
END:VCALENDAR
