BEGIN:VCALENDAR
VERSION:2.0
METHOD:PUBLISH
PRODID:-//Virginia Tech//VT Calendar//EN
BEGIN:VEVENT
DTSTAMP:20100419T233000Z
UID:1269524283477@events.msu.edu
CATEGORIES:Student Events
DTSTART:20100419T233000Z
DTEND:20100420T035900Z
SUMMARY:Get Him To The Greek Sneak Preview
DESCRIPTION:
  Price: FREE\n
 Sponsor: University Activities Board (UAB)\n
 Sponsor's Homepage: http://www.uabevents.com\n
 Contact name: University Activities Board\n
 Contact phone: 355-3354\n
 Contact email: uab@hfs.msu.edu\n
 for more info visit the web at:\n 
 http://www.uabevents.com\n
LOCATION:B108 Wells
END:VEVENT
END:VCALENDAR
