BEGIN:VCALENDAR
VERSION:2.0
METHOD:PUBLISH
PRODID:-//Virginia Tech//VT Calendar//EN
BEGIN:VEVENT
DTSTAMP:20100422T000000Z
UID:1269524629638@events.msu.edu
CATEGORIES:Student Events
DTSTART:20100422T000000Z
DTEND:20100422T035900Z
SUMMARY:Open Mic Night
DESCRIPTION:
 Join your fellow students for a night a entertainment. 
 Get on stage and show us your talent 
 or come out and enjoy the talent of others. 
 \n\n
 Price: FREE\n
 Sponsor: University Activities Board (UAB)\n
 Sponsor's Homepage: http://www.uabevents.com\n
 Contact name: University Activities Board\n
 Contact phone: 355-3354\n
 Contact email: uab@hfs.msu.edu\n
 for more info visit the web at:\n 
 http://www.uabevents.com\n
LOCATION:MSU Union Main Lounge
END:VEVENT
END:VCALENDAR
