BEGIN:VCALENDAR
VERSION:2.0
METHOD:PUBLISH
PRODID:-//Virginia Tech//VT Calendar//EN
BEGIN:VEVENT
DTSTAMP:20100427T230000Z
UID:1269525469443@events.msu.edu
CATEGORIES:Student Events
DTSTART:20100427T230000Z
DTEND:20100428T035900Z
SUMMARY:UAB General Board
DESCRIPTION:
 Join UAB to recap events and plan events for the 
 rest of Spring semester.\n\n
 Price: FREE\n
 Sponsor: University Activities Board (UAB)\n
 Sponsor's Homepage: http://www.uabevents.com\n
 Contact name: University Activities Board\n
 Contact phone: 355-3354\n
 Contact email: uab@hfs.msu.edu\n
 for more info visit the web at:\n 
 http://www.uabevents.com\n
LOCATION:MSU Union 2nd Floor
END:VEVENT
END:VCALENDAR
