BEGIN:VCALENDAR
VERSION:2.0
METHOD:PUBLISH
PRODID:-//Virginia Tech//VT Calendar//EN
BEGIN:VEVENT
DTSTAMP:20100514T230000Z
UID:1269617184035@events.msu.edu
CATEGORIES:Performing Arts (Dance, Music, Theatre,  ...)
DTSTART:20100514T230000Z
DTEND:20100515T035900Z
SUMMARY:Children's Choirs Concert
DESCRIPTION:
 The three choirs of the MSU Community Music School, 
 the Preparatory Choir, the CMS Singers, 
 and the Grammy-award winning MSU Children's 
 Choir, will give a concert on May 14 at 7 p.m. 
 at the University United Methodist Church.\n\n
 Price: free\n
 Sponsor: Administration\n
 Sponsor's Homepage: http://cms.msu.edu\n
 Contact phone: (517_ 355-7661\n
 Contact email: adarche@msu.edu\n
LOCATION:University United Methodist Church
END:VEVENT
END:VCALENDAR
