BEGIN:VCALENDAR
VERSION:2.0
METHOD:PUBLISH
PRODID:-//Virginia Tech//VT Calendar//EN
BEGIN:VEVENT
DTSTAMP:20100527T230000Z
UID:1269618483991@events.msu.edu
CATEGORIES:Performing Arts (Dance, Music, Theatre,  ...)
DTSTART:20100527T230000Z
DTEND:20100528T035900Z
SUMMARY:Spartan Virtuosi Spring Concert & Ice Cream Social
DESCRIPTION:
 Enjoy some ice-cream and watch the Community Music 
 School Suzuki Program's tour group, Spartan 
 Virtuosi, perform at the Community Music 
 School at 7 p.m.\n\n
 Price: free\n
 Sponsor: Administration\n
 Sponsor's Homepage: http://cms.msu.edu\n
 Contact phone: (517) 355-7661\n
 Contact email: adarche@msu.edu\n
LOCATION:MSU Community Music School
END:VEVENT
END:VCALENDAR
