BEGIN:VCALENDAR
VERSION:2.0
METHOD:PUBLISH
PRODID:-//Virginia Tech//VT Calendar//EN
BEGIN:VEVENT
DTSTAMP:20100411T183000Z
UID:1269878202440@events.msu.edu
CATEGORIES:Public Programs
DTSTART:20100411T183000Z
DTEND:20100411T193000Z
SUMMARY:The Little Star That Could
DESCRIPTION:
 Little Star is sad because he has no planets of 
 his own, so he sets out on a quest to find 
 some.  Along the way he encounters an assortment 
 of fascinating characters which include Big 
 Daddy, a red giant star; Pearl, a bright white 
 star; Mr. Globular Cluster, and many more.\n\n
 Price: Adults $3.00, students and senior citizens $2.50, 
 children 12 years and under $2.00\n
 Sponsor: Abrams Planetarium\n
 Sponsor's Homepage: http://www.pa.msu.edu/abrams\n
 Contact name: Mary Gowans\n
 Contact phone: 517-355-4676\n
 Contact email: gowans@msu.edu\n
 for more info visit the web at:\n 
 http://www.pa.msu.edu/abrams\n
LOCATION:Abrams Planetarium
END:VEVENT
END:VCALENDAR
