BEGIN:VCALENDAR
VERSION:2.0
METHOD:PUBLISH
PRODID:-//Virginia Tech//VT Calendar//EN
BEGIN:VEVENT
DTSTAMP:20100418T200000Z
UID:1270212529796@events.msu.edu
CATEGORIES:Public Programs
DTSTART:20100418T200000Z
DTEND:20100418T213000Z
SUMMARY:Journey to the Edge of Space and Time
DESCRIPTION:
 Come along on a fantastic voyage to the edge of 
 all we know - a journey to super massive black 
 holes, giant galaxy clusters, the universe's 
 earliest moments, and event to parallel universes 
 which challenge our imagination.\n\n
 Price: Adults $3.00, students and senior citizens $2.50, 
 children 12 years and under $2.00\n
 Sponsor: Abrams Planetarium\n
 Sponsor's Homepage: http://www.pa.msu.edu/abrams\n
 Contact name: Mary Gowans\n
 Contact phone: 517-355-4676\n
 Contact email: gowans@msu.edu\n
 for more info visit the web at:\n 
 http://www.pa.msu.edu/abrams\n
LOCATION:Abrams Planetarium
END:VEVENT
END:VCALENDAR
