BEGIN:VCALENDAR
VERSION:2.0
METHOD:PUBLISH
PRODID:-//Virginia Tech//VT Calendar//EN
BEGIN:VEVENT
DTSTAMP:20100510T130000Z
UID:1270230636097@events.msu.edu
CATEGORIES:Conferences / Seminars / Lectures
DTSTART:20100510T130000Z
DTEND:20100510T200000Z
SUMMARY:Center for Statistical Training & Consulting Workshop: Introduction to Sampling
DESCRIPTION:
 This workshop will provide an introduction to 
 sampling with the focus on design and its relation 
 to the methods of data analysis. The first 
 three hours will be spent covering basic 
 sampling concepts and aspects of selecting and 
 analyzing a sample. The second half of the 
 workshop will be devoted to hands-on lab exercises 
 that will demonstrate how to use SAS 9.2 
 procedures to select samples and analyze data 
 using survey procedures.\n
 \n
 The workshop will 
 break from Noon-1pm to allow time for lunch. 
 \n\n
 Price: Free to Graduate Students, Faculty and Research 
 Staff\n
 Sponsor: public\n
 Contact name: Brian Silver\n
 Contact phone: 517-353-9288\n
 Contact email: cstatinf@msu.edu\n
 for more info visit the web at:\n 
 http://www.cstat.msu.edu/services/workshops/workshop.aspx?id=1380\n
LOCATION:216 Bessey Hall
END:VEVENT
END:VCALENDAR
