BEGIN:VCALENDAR
VERSION:2.0
METHOD:PUBLISH
PRODID:-//Virginia Tech//VT Calendar//EN
BEGIN:VEVENT
DTSTAMP:20100429T200000Z
UID:1270648651469@events.msu.edu
CATEGORIES:Conferences / Seminars / Lectures
DTSTART:20100429T200000Z
DTEND:20100430T035900Z
SUMMARY:The Immune System in Human Disease
DESCRIPTION:
 Part 3 of 3 in the annual Joseph and Mable Meites 
 Lectureship Series in the Department of Physiology. 
 Topic this week is Myocarditis: an 
 infection-induced autoimmune disease. Speaker 
 is \n
 Noel Rose from Johns Hopkins School of 
 Medicine.\n\n
 Price: free\n
 Sponsor: Physiology\n
 Sponsor's Homepage: http://www.psl.msu.edu/\n
 for more info visit the web at:\n 
 http://www.psl.msu.edu/\n
LOCATION:1425 Biomedical & Physical Science Building
END:VEVENT
END:VCALENDAR
