BEGIN:VCALENDAR
VERSION:2.0
METHOD:PUBLISH
PRODID:-//Virginia Tech//VT Calendar//EN
BEGIN:VEVENT
DTSTAMP:20100408T050000Z
UID:1271856235786@events.msu.edu
CATEGORIES:Conferences / Seminars / Lectures
DTSTART;VALUE=DATE:20100408
DTEND;VALUE=DATE:20100409
SUMMARY:Entrepreneurship and Engagement: Building a Bridge of Prosperity Between Romania and North America.
DESCRIPTION:
  Price: $30 (includes lunch)\n
 Sponsor: Institute for Public Policy and Social Research\n
 Sponsor's Homepage: http://www.isp.msu.edu/cers/\n
 Contact name: Institute for Public Policy and Social Research 
 \n
 Contact phone: (517) 355-6672\n
 for more info visit the web at:\n 
 http://www.ippsr.msu.edu\n
LOCATION:Marriott Hotel, East Lansing
END:VEVENT
END:VCALENDAR
