BEGIN:VCALENDAR
VERSION:2.0
METHOD:PUBLISH
PRODID:-//Virginia Tech//VT Calendar//EN
BEGIN:VEVENT
DTSTAMP:20100619T000000Z
UID:1272652628463-0003@events.msu.edu
CATEGORIES:Performing Arts (Dance, Music, Theatre,  ...)
DTSTART:20100619T000000Z
DTEND:20100619T035900Z
SUMMARY:The Drunken City
DESCRIPTION:
 Production by Adam Bock. Directed by Rob Roznowski. 
 A bachelorette party in the big city goes 
 awry as the bride-to-be meets the man of her 
 dreams in this adult comedy by one of today's 
 hottest playwrights. \n\n
 Price: free\n
 Sponsor: Administration\n
 Sponsor's Homepage: http://theatre.msu.edu/\n
 Contact phone: 517-355-6690\n
 for more info visit the web at:\n 
 http://www.summercircle.org/\n
LOCATION:On the Banks of Red Cedar River
END:VEVENT
END:VCALENDAR
