BEGIN:VCALENDAR
VERSION:2.0
METHOD:PUBLISH
PRODID:-//Virginia Tech//VT Calendar//EN
BEGIN:VEVENT
DTSTAMP:20100612T040000Z
UID:1272653834637@events.msu.edu
CATEGORIES:Performing Arts (Dance, Music, Theatre,  ...)
DTSTART;VALUE=DATE:20100612
DTEND;VALUE=DATE:20100613
SUMMARY:SCT ALUMNI PERFORMANCE
DESCRIPTION:
  Price: free\n
 Sponsor: Administration\n
 Sponsor's Homepage: http://theatre.msu.edu/\n
 Contact phone: 517-355-6690\n
 for more info visit the web at:\n 
 http://www.summercircle.org/\n
LOCATION:On the Banks of the Red Cedar River
END:VEVENT
END:VCALENDAR
