BEGIN:VCALENDAR
VERSION:2.0
METHOD:PUBLISH
PRODID:-//Virginia Tech//VT Calendar//EN
BEGIN:VEVENT
DTSTAMP:20100513T190000Z
UID:1273088126440@events.msu.edu
CATEGORIES:Special Events
DTSTART:20100513T190000Z
DTEND:20100513T203000Z
SUMMARY:A Feast for the Eyes: Japanese Confectionery Demonstration
DESCRIPTION:
 \n
 	One of the top confectionery masters in Japan, 
 Mr. Shoji Nishizawa, of Shiga Prefecture, 
 will demonstrate the unique are of confectionery 
 making. Participants will learn how confectionery 
 is made and traditionally enjoyed as 
 they sample these treats and drink authentic 
 Japanese tea.\n
 \n\n
 Price: free\n
 Sponsor: Japan Center for Michigan Universities\n
 Sponsor's Homepage: http://www.isp.msu.edu/jcmu/\n
 Contact name: Saeko Miyamura\n
 Contact email: shigaken@msu.edu\n
LOCATION:Kellogg Hotel and Conference Center, MSU
END:VEVENT
END:VCALENDAR
