BEGIN:VCALENDAR
VERSION:2.0
METHOD:PUBLISH
PRODID:-//Virginia Tech//VT Calendar//EN
BEGIN:VEVENT
DTSTAMP:20100602T160000Z
UID:1274359919122@events.msu.edu
CATEGORIES:Student Events
DTSTART:20100602T160000Z
DTEND:20100602T170000Z
SUMMARY:Clinical Nutrition Interest Group
DESCRIPTION:
 Description of Event:Meeting with Dr. Hortos for 
 Clinical nutrition interest group\n
 \n\n
 Price:  free\n
 Sponsor: Student Services Assistant MUC on behalf of Dr. 
 Hortos\n
 Contact name: Jennifer Lanuzza \n
 Contact phone: (586) 263-6750\n
 Contact email: jennifer.lanuzza@hc.msu.edu\n
LOCATION:E202 East Fee, DMC G-029, and Macomb UC3-208
END:VEVENT
END:VCALENDAR
