BEGIN:VCALENDAR
VERSION:2.0
METHOD:PUBLISH
PRODID:-//Virginia Tech//VT Calendar//EN
BEGIN:VEVENT
DTSTAMP:20100605T110000Z
UID:1274896749968@events.msu.edu
CATEGORIES:Special Events
DTSTART:20100605T110000Z
DTEND:20100605T180000Z
SUMMARY:Plant Sale to Benefit the MSU Horticulture Gardens
DESCRIPTION:
 Plant Sale 2010! To benefit the MSU Horticulture 
 Gardens. Get great deals on perennials, grasses, 
 herbs, annuals, cottage garden plants, 
 vegetable seedlings, shrubs and more.\n\n
 Sponsor: MSU Horticulture Gardens\n
 Sponsor's Homepage: http://hrt.msu.edu/our-gardens\n
 Contact phone: (517) 355-5191 x1348\n
 Contact email: hgardens@msu.edu\n
 for more info visit the web at:\n 
 http://hrt.msu.edu/our-gardens\n
LOCATION:Plant and Soil Science Building
END:VEVENT
END:VCALENDAR
