BEGIN:VCALENDAR
VERSION:2.0
METHOD:PUBLISH
PRODID:-//Virginia Tech//VT Calendar//EN
BEGIN:VEVENT
DTSTAMP:20100912T210000Z
UID:1280771389744@events.msu.edu
CATEGORIES:Performing Arts (Dance, Music, Theatre,  ...)
DTSTART:20100912T210000Z
DTEND:20100912T230000Z
SUMMARY:Fall Suzuki Orientation
DESCRIPTION:
  Price: free\n
 Sponsor: Administration\n
 Sponsor's Homepage: http://cms.msu.edu\n
 Contact phone: (517) 355-7661\n
 for more info visit the web at:\n 
 http://cms.msu.edu/el/children/suzuki.php?el_child_suzuki\n
LOCATION:MSU Community Music School
END:VEVENT
END:VCALENDAR
