BEGIN:VCALENDAR
VERSION:2.0
METHOD:PUBLISH
PRODID:-//Virginia Tech//VT Calendar//EN
BEGIN:VEVENT
DTSTAMP:20101116T201500Z
UID:1281470062832-0003@events.msu.edu
CATEGORIES:Academic
DTSTART:20101116T201500Z
DTEND:20101116T220000Z
SUMMARY:Faculty Council and Academic Council
DESCRIPTION:
  Price: free\n
 Sponsor: Administration\n
 Sponsor's Homepage: http://events.msu.edu/acadgov/\n
 Contact name: Sherry Lott\n
 Contact phone: (517) 355-2337\n
 Contact email: sll@msu.edu\n
LOCATION:Room 115 International Center
END:VEVENT
END:VCALENDAR
