BEGIN:VCALENDAR
VERSION:2.0
METHOD:PUBLISH
PRODID:-//Virginia Tech//VT Calendar//EN
BEGIN:VEVENT
DTSTAMP:20101022T040000Z
UID:1281722881886@events.msu.edu
CATEGORIES:Conferences / Seminars / Lectures
DTSTART;VALUE=DATE:20101022
DTEND;VALUE=DATE:20101023
SUMMARY:Microbiology & Molecular Genetics Seminar
DESCRIPTION:
 Derek Lovley from U. Mass, Amherst. Topic TBA.\n\n
 Price: Free\n
 Sponsor: Dept. of Microbiology & Molecular Genetics \n
 Sponsor's Homepage: http://mmg.msu.edu/\n
 Contact name: Walt Esselman\n
 for more info visit the web at:\n 
 http://mmg.msu.edu/seminars-schedules.html\n
LOCATION:1415 BPS
END:VEVENT
END:VCALENDAR
