BEGIN:VCALENDAR
VERSION:2.0
METHOD:PUBLISH
PRODID:-//Virginia Tech//VT Calendar//EN
BEGIN:VEVENT
DTSTAMP:20100829T230000Z
UID:1281975361618@events.msu.edu
CATEGORIES:Public Programs
DTSTART:20100829T230000Z
DTEND:20100830T010000Z
SUMMARY:An Evening With Dave Eggers
DESCRIPTION:
 Kick-off of the 2010 One Book, One Community program, 
 featuring Zeitoun by Dave Eggers\n\n
 Price: free\n
 Sponsor: public\n
 Contact name: Ginny Haas\n
 Contact phone: 353-9001\n
 Contact email: haasv@msu.edu\n
 for more info visit the web at:\n 
 http://www.onebookeastlansing.com\n
LOCATION:East Lansing High School, 509 Burcham, East Lansing
END:VEVENT
END:VCALENDAR
