BEGIN:VCALENDAR
VERSION:2.0
METHOD:PUBLISH
PRODID:-//Virginia Tech//VT Calendar//EN
BEGIN:VEVENT
DTSTAMP:20101025T233000Z
UID:1282330186436@events.msu.edu
CATEGORIES:Performing Arts (Dance, Music, Theatre,  ...)
DTSTART:20101025T233000Z
DTEND:20101026T035900Z
SUMMARY:Gwen Burgett Thrasher, percussion
DESCRIPTION:
 <p>With guest artist <a href="http://www.ayanokataoka.com/home.html">Ayano 
 Kataoka</a>, percussion<br>\n
 Kataoka 
 has appeared with\n
 Yo-Yo 
 Ma and the Silk Road\n
 Ensemble at Carnegie Hall; 
 she\n
 currently serves on the faculty of\n
 the 
 University of Massachusetts\n
 Amherst.</p>\n
 <p>more 
 about <a href="http://people.music.msu.edu/detail.asp?ContactID=68&RecPos=71">Gwen 
 Burgett Thrasher</a>\n\n
 Price: Regular ticket prices: $10 for adults, $8 for 
 senior citizens, free for students.\n
 Sponsor: College of Music\n
 Sponsor's Homepage: http://www.music.msu.edu\n
LOCATION:Music Building Auditorium 
END:VEVENT
END:VCALENDAR
